BEGIN:VCALENDAR
PRODID:-//Calendar export
VERSION:2.0
X-WR-TIMEZONE:Etc/GMT
BEGIN:VTIMEZONE
TZID:GMT Standard Time
BEGIN:STANDARD
TZOFFSETFROM:+0000
TZOFFSETTO:+0000
END:STANDARD
END:VTIMEZONE
BEGIN:VEVENT
UID:AE5084
DTSTAMP:20260421T183300Z
SUMMARY:Author Fair Coming to East Dundee
CLASS:PUBLIC
DESCRIPTION: I'm delighted to say that I will be part of an inaugural a
 uthor fair hap
 pening in East Dundee\, Illinois in June. It will be out-of-doors on the 
 lawn surrounding the Depot on River Street. Details are still being worke
 d\, but I'll keep you posted.
STATUS:CONFIRMED
PRIORITY:1
DTSTART:20260613T170000Z
DTEND:20260613T200000Z
TRANSP:OPAQUE
END:VEVENT
END:VCALENDAR
